BEGIN:VCALENDAR
VERSION:2.0
PRODID:-// - ECPv6.15.11//NONSGML v1.0//EN
CALSCALE:GREGORIAN
METHOD:PUBLISH
X-ORIGINAL-URL:https://ggs-huelsdonk.de
X-WR-CALDESC:Veranstaltungen für 
REFRESH-INTERVAL;VALUE=DURATION:PT1H
X-Robots-Tag:noindex
X-PUBLISHED-TTL:PT1H
BEGIN:VTIMEZONE
TZID:Europe/Berlin
BEGIN:DAYLIGHT
TZOFFSETFROM:+0100
TZOFFSETTO:+0200
TZNAME:CEST
DTSTART:20240331T010000
END:DAYLIGHT
BEGIN:STANDARD
TZOFFSETFROM:+0200
TZOFFSETTO:+0100
TZNAME:CET
DTSTART:20241027T010000
END:STANDARD
BEGIN:DAYLIGHT
TZOFFSETFROM:+0100
TZOFFSETTO:+0200
TZNAME:CEST
DTSTART:20250330T010000
END:DAYLIGHT
BEGIN:STANDARD
TZOFFSETFROM:+0200
TZOFFSETTO:+0100
TZNAME:CET
DTSTART:20251026T010000
END:STANDARD
BEGIN:DAYLIGHT
TZOFFSETFROM:+0100
TZOFFSETTO:+0200
TZNAME:CEST
DTSTART:20260329T010000
END:DAYLIGHT
BEGIN:STANDARD
TZOFFSETFROM:+0200
TZOFFSETTO:+0100
TZNAME:CET
DTSTART:20261025T010000
END:STANDARD
BEGIN:DAYLIGHT
TZOFFSETFROM:+0100
TZOFFSETTO:+0200
TZNAME:CEST
DTSTART:20270328T010000
END:DAYLIGHT
BEGIN:STANDARD
TZOFFSETFROM:+0200
TZOFFSETTO:+0100
TZNAME:CET
DTSTART:20271031T010000
END:STANDARD
END:VTIMEZONE
BEGIN:VEVENT
DTSTART;TZID=Europe/Berlin:20251222T080000
DTEND;TZID=Europe/Berlin:20260106T080000
DTSTAMP:20260422T185830
CREATED:20250617T093503Z
LAST-MODIFIED:20250703T084916Z
UID:10000011-1766390400-1767686400@ggs-huelsdonk.de
SUMMARY:Weihnachtsferien 2025/26
DESCRIPTION:Betreuung in der OGS Hülsdonk
URL:https://ggs-huelsdonk.de/event/weihnachtsferien-2025-26-betreuung-in-der-ogs-huelsdonk/
CATEGORIES:Für Eltern,Für Schülerschaft
END:VEVENT
BEGIN:VEVENT
DTSTART;TZID=Europe/Berlin:20260107T075500
DTEND;TZID=Europe/Berlin:20260107T160000
DTSTAMP:20260422T185830
CREATED:20251215T064346Z
LAST-MODIFIED:20251215T064506Z
UID:10000077-1767772500-1767801600@ggs-huelsdonk.de
SUMMARY:Schulbeginn nach den Weihnachtsferien -> MITTWOCH!!
DESCRIPTION:Mittwoch\, den 7.1.25 um 7.55 Uhr
URL:https://ggs-huelsdonk.de/event/schulbeginn/
CATEGORIES:Für Eltern,Für Schülerschaft
END:VEVENT
BEGIN:VEVENT
DTSTART;VALUE=DATE:20260114
DTEND;VALUE=DATE:20260115
DTSTAMP:20260422T185830
CREATED:20250819T054615Z
LAST-MODIFIED:20251218T180538Z
UID:10000048-1768348800-1768435199@ggs-huelsdonk.de
SUMMARY:Theaterstück in Moers
DESCRIPTION:
URL:https://ggs-huelsdonk.de/event/theaterstueck-in-moers/
CATEGORIES:Für Eltern,Für Schülerschaft
END:VEVENT
END:VCALENDAR